BEGIN:VCALENDAR
VERSION:2.0
PRODID:-//The Eulenspiegel Society - ECPv6.15.20//NONSGML v1.0//EN
CALSCALE:GREGORIAN
METHOD:PUBLISH
X-ORIGINAL-URL:https://www.tes.org
X-WR-CALDESC:Events for The Eulenspiegel Society
REFRESH-INTERVAL;VALUE=DURATION:PT1H
X-Robots-Tag:noindex
X-PUBLISHED-TTL:PT1H
BEGIN:VTIMEZONE
TZID:America/New_York
BEGIN:DAYLIGHT
TZOFFSETFROM:-0500
TZOFFSETTO:-0400
TZNAME:EDT
DTSTART:20190310T070000
END:DAYLIGHT
BEGIN:STANDARD
TZOFFSETFROM:-0400
TZOFFSETTO:-0500
TZNAME:EST
DTSTART:20191103T060000
END:STANDARD
BEGIN:DAYLIGHT
TZOFFSETFROM:-0500
TZOFFSETTO:-0400
TZNAME:EDT
DTSTART:20200308T070000
END:DAYLIGHT
BEGIN:STANDARD
TZOFFSETFROM:-0400
TZOFFSETTO:-0500
TZNAME:EST
DTSTART:20201101T060000
END:STANDARD
BEGIN:DAYLIGHT
TZOFFSETFROM:-0500
TZOFFSETTO:-0400
TZNAME:EDT
DTSTART:20210314T070000
END:DAYLIGHT
BEGIN:STANDARD
TZOFFSETFROM:-0400
TZOFFSETTO:-0500
TZNAME:EST
DTSTART:20211107T060000
END:STANDARD
END:VTIMEZONE
BEGIN:VEVENT
DTSTART;TZID=America/New_York:20200212T193000
DTEND;TZID=America/New_York:20200212T220000
DTSTAMP:20260421T095841
CREATED:20200126T004600Z
LAST-MODIFIED:20200126T004600Z
UID:4064-1581535800-1581544800@www.tes.org
SUMMARY:Handheld Fucking Machines from Drilldos to Fucksaws
DESCRIPTION:Fucking machines in general are one of the coolest and most exciting pieces of equipment one can use when exploring the sexual side of our world. It can also be one of the least accessible and riskiest activities\, which is why it’s often harder to establish a foundation of skills or opportunity to participate under ideal conditions. The primary purpose of this class to make this activity less alien and offer that foundation of skills and knowledge that can develop into better practices for everyone whether new or experienced. \nThere are many thoughts and questions that one often thinks about when diving into this activity. How do I use these machines safely? How do I know if my partner or I are ready for this play? How can I negotiate to do this play? How do I integrate it into my play or scene? As a DM\, event organizer\, or venue operator; what should I know to vet people and equipment? What are some skills I should learn? Can I use electric tools/devices I already have? What types of dildo’s and attachments can I use? Where do I get this stuff? How much is this going to cost me? How do I make or assemble my own machines or attachments? Am I crazy for even thinking about playing with what is essentially just a power tool with a sex toy attached to it? All these questions and more will be answered. \nI will offer my best practices to help you in your journey based on my 10+ years of experience researching\, building\, and using these devices. \nThere will be an opportunity to ask specific questions and try out general use of these devices. Please wear closed toed shoes/boots for a hands-on demo experience. \n\nDoors open at 7\, class begins at 7:30\nBuzzer #013 \n\n\n\n\nTES Members – $10\, Students\, Seniors\, Military\, and First Responders (with ID) – $15\, Reciprocal Groups – $15\, Non-Members – $25
URL:https://www.tes.org/event/handheld-fucking-machines-from-drilldos-to-fucksaws/
LOCATION:The Loft\, 245 W 29th St\, 11th floor\, New York\, NY\, 10013\, United States
END:VEVENT
END:VCALENDAR