BEGIN:VCALENDAR
VERSION:2.0
PRODID:-//The Eulenspiegel Society - ECPv6.15.20//NONSGML v1.0//EN
CALSCALE:GREGORIAN
METHOD:PUBLISH
X-WR-CALNAME:The Eulenspiegel Society
X-ORIGINAL-URL:https://www.tes.org
X-WR-CALDESC:Events for The Eulenspiegel Society
REFRESH-INTERVAL;VALUE=DURATION:PT1H
X-Robots-Tag:noindex
X-PUBLISHED-TTL:PT1H
BEGIN:VTIMEZONE
TZID:America/New_York
BEGIN:DAYLIGHT
TZOFFSETFROM:-0500
TZOFFSETTO:-0400
TZNAME:EDT
DTSTART:20190310T070000
END:DAYLIGHT
BEGIN:STANDARD
TZOFFSETFROM:-0400
TZOFFSETTO:-0500
TZNAME:EST
DTSTART:20191103T060000
END:STANDARD
BEGIN:DAYLIGHT
TZOFFSETFROM:-0500
TZOFFSETTO:-0400
TZNAME:EDT
DTSTART:20200308T070000
END:DAYLIGHT
BEGIN:STANDARD
TZOFFSETFROM:-0400
TZOFFSETTO:-0500
TZNAME:EST
DTSTART:20201101T060000
END:STANDARD
BEGIN:DAYLIGHT
TZOFFSETFROM:-0500
TZOFFSETTO:-0400
TZNAME:EDT
DTSTART:20210314T070000
END:DAYLIGHT
BEGIN:STANDARD
TZOFFSETFROM:-0400
TZOFFSETTO:-0500
TZNAME:EST
DTSTART:20211107T060000
END:STANDARD
END:VTIMEZONE
BEGIN:VEVENT
DTSTART;TZID=America/New_York:20200324T193000
DTEND;TZID=America/New_York:20200324T220000
DTSTAMP:20260421T112522
CREATED:20200229T031837Z
LAST-MODIFIED:20200318T013003Z
UID:4107-1585078200-1585087200@www.tes.org
SUMMARY:POSTPONED - Kink And Neurodiversity: An Open Discussion with Vircotto
DESCRIPTION:Due to recommendations from the medical community\, this event has been postponed. Keep an eye out for the rescheduled date. In the meantime\, stay healthy! \nOur community celebrates diversity in its many forms\, including sexuality\, gender\, kink\, religion\, and race. We are at the forefront of standing up for disabilities as well and provide accommodation for people with physical challenges of various forms\, including reduced scent environments. We provide helpful information for those of us who suffer from depression and other forms of mental illness\, providing a safe place to talk about our challenges. But one area of challenge in our community is around the topic of neurodiversity. Neurodiversity is the idea that neurological differences are recognized\, understood and accepted. These include many forms of invisible disabilities\, including Dyspraxia\, Dyslexia\, Attention Deficit Hyperactivity Disorder\, Dyscalculia\, Autistic Spectrum\, Tourette Syndrome\, as well as others. Individuals with neurological differences in the kink community speak of feeling marginalized and excluded\, while kink organizers struggle with issues of wanting to provide an atmosphere that feels safe and welcoming to all. Come join The Eulenspiegel Society on 3/24 for our second discussion on this important topic. \nThe discussion will be facilitated by Vir Cotto\, a kinkster and occasional presenter. Vir identifies as neuro-divergent\, having learning disabilities and ADHD. Struggling with the challenges associated with being “twice exceptional” Vir has an understanding of these challenges of being “different” and can share his insight on both the difficulties that neuro-non-typical people feel\, as well as the challenges associated with creating a welcoming\, accommodating spaces. Vir Cotto is a kinkster living in New York City and Vancouver\, Canada. He’s also a vanilla geek with a focus on individual empowerment and taking back control of your technology. Vir been involved with the BDSM community since 2015 and has volunteered and presented for TES in the past. In his spare time\, he likes to write about BDSM and his journey. Both inside and outside of Kink\, Vir likes to let his geek flag fly. \nDoors open at 7\, class begins at 7:30. Buzzer #013 \n\n\n\n\nTES Members – $10\, Students\, Seniors\, Military\, and First Responders (with ID) – $15\, Reciprocal Groups – $15\, Non-Members – $25
URL:https://www.tes.org/event/kink-and-neurodiversity-an-open-discussion-with-vircotto/
LOCATION:The Loft\, 245 W 29th St\, 11th floor\, New York\, NY\, 10013\, United States
END:VEVENT
END:VCALENDAR