BEGIN:VCALENDAR
VERSION:2.0
PRODID:-//The Eulenspiegel Society - ECPv6.15.20//NONSGML v1.0//EN
CALSCALE:GREGORIAN
METHOD:PUBLISH
X-WR-CALNAME:The Eulenspiegel Society
X-ORIGINAL-URL:https://www.tes.org
X-WR-CALDESC:Events for The Eulenspiegel Society
REFRESH-INTERVAL;VALUE=DURATION:PT1H
X-Robots-Tag:noindex
X-PUBLISHED-TTL:PT1H
BEGIN:VTIMEZONE
TZID:America/New_York
BEGIN:DAYLIGHT
TZOFFSETFROM:-0500
TZOFFSETTO:-0400
TZNAME:EDT
DTSTART:20190310T070000
END:DAYLIGHT
BEGIN:STANDARD
TZOFFSETFROM:-0400
TZOFFSETTO:-0500
TZNAME:EST
DTSTART:20191103T060000
END:STANDARD
BEGIN:DAYLIGHT
TZOFFSETFROM:-0500
TZOFFSETTO:-0400
TZNAME:EDT
DTSTART:20200308T070000
END:DAYLIGHT
BEGIN:STANDARD
TZOFFSETFROM:-0400
TZOFFSETTO:-0500
TZNAME:EST
DTSTART:20201101T060000
END:STANDARD
BEGIN:DAYLIGHT
TZOFFSETFROM:-0500
TZOFFSETTO:-0400
TZNAME:EDT
DTSTART:20210314T070000
END:DAYLIGHT
BEGIN:STANDARD
TZOFFSETFROM:-0400
TZOFFSETTO:-0500
TZNAME:EST
DTSTART:20211107T060000
END:STANDARD
END:VTIMEZONE
BEGIN:VEVENT
DTSTART;TZID=America/New_York:20200331T193000
DTEND;TZID=America/New_York:20200331T220000
DTSTAMP:20260421T112519
CREATED:20200106T030922Z
LAST-MODIFIED:20200318T013106Z
UID:4049-1585683000-1585692000@www.tes.org
SUMMARY:POSTPONED - Fire Play with Shermie
DESCRIPTION:Due to recommendations from the medical community\, this event has been postponed. Keep an eye out for the rescheduled date. In the meantime\, stay healthy! \nShermie will teach the basics of “safe” fire play\, as oxymoronic as it sounds\, including fire fleshing and fire cupping. Within the “What It Is That We Do” community\, fire play is considered one of the most dangerous\, if not the most dangerous\, form of play. It can also be an intensely sensual form of edge play. It’s classified as edge play simply because out-of-control flame could result in terrible consequences. This class will go over safety techniques and basic kinds of fire play. \nShermie has been in the scene for well over a decade. Subjects he has taught include fire play\, dry and wet (blood) cupping\, suturing\, pallet wrap suspension and mummification\, BDSM and Dungeon 101\, as well as needle play. He has also taught about sex\, health and kink at Columbia Presbyterian Medical School and the Mount Sinai School of Medicine. \n\nDoors open at 7\, class begins at 7:30. \n\n\n\n\nTES Members – $10\, Students\, Seniors\, Military\, and First Responders (with ID) – $15\, Reciprocal Groups – $15\, Non-Members – $25
URL:https://www.tes.org/event/fire-play-with-shermie/
LOCATION:The Loft\, 245 W 29th St\, 11th floor\, New York\, NY\, 10013\, United States
END:VEVENT
END:VCALENDAR