BEGIN:VCALENDAR
VERSION:2.0
PRODID:-//The Eulenspiegel Society - ECPv6.15.20//NONSGML v1.0//EN
CALSCALE:GREGORIAN
METHOD:PUBLISH
X-WR-CALNAME:The Eulenspiegel Society
X-ORIGINAL-URL:https://www.tes.org
X-WR-CALDESC:Events for The Eulenspiegel Society
REFRESH-INTERVAL;VALUE=DURATION:PT1H
X-Robots-Tag:noindex
X-PUBLISHED-TTL:PT1H
BEGIN:VTIMEZONE
TZID:America/New_York
BEGIN:DAYLIGHT
TZOFFSETFROM:-0500
TZOFFSETTO:-0400
TZNAME:EDT
DTSTART:20200308T070000
END:DAYLIGHT
BEGIN:STANDARD
TZOFFSETFROM:-0400
TZOFFSETTO:-0500
TZNAME:EST
DTSTART:20201101T060000
END:STANDARD
BEGIN:DAYLIGHT
TZOFFSETFROM:-0500
TZOFFSETTO:-0400
TZNAME:EDT
DTSTART:20210314T070000
END:DAYLIGHT
BEGIN:STANDARD
TZOFFSETFROM:-0400
TZOFFSETTO:-0500
TZNAME:EST
DTSTART:20211107T060000
END:STANDARD
BEGIN:DAYLIGHT
TZOFFSETFROM:-0500
TZOFFSETTO:-0400
TZNAME:EDT
DTSTART:20220313T070000
END:DAYLIGHT
BEGIN:STANDARD
TZOFFSETFROM:-0400
TZOFFSETTO:-0500
TZNAME:EST
DTSTART:20221106T060000
END:STANDARD
END:VTIMEZONE
BEGIN:VEVENT
DTSTART;TZID=America/New_York:20210406T190000
DTEND;TZID=America/New_York:20210406T220000
DTSTAMP:20260421T095730
CREATED:20210112T133826Z
LAST-MODIFIED:20210112T133826Z
UID:4350-1617735600-1617746400@www.tes.org
SUMMARY:ONLINE - Body Modification Through Pumping with CTW & Mister
DESCRIPTION:Temporary body modification using pumping equipment can be a gender affirming/bending and sexually gratifying kink with ties into medical play\, objectification\, and dollification. We will discuss various types of pumping devices\, the risks involved with this kink\, tips we’ve found useful\, and other important information\, and we will demo some of the pumping devices in our kit. This class will show close-ups of uncovered breast\, penile\, and vulvar anatomy in a non-erotic context. \nMister and CTW are a queer couple that have been exploring alternative bondage techniques for the past few years and have presented on artistic rope and chain bondage\, including suspension. \n\nTo participate\, simply visit https://datingkinky.com/TES-Tuesdays every Tuesday\, at 7pm. No additional downloads or software required! This platform is supported by multiple browsers\, but if you are having any technical difficulties please try a different browser\, as certain settings may interfere. Note that this link will only be active during scheduled meeting times. \nYou are welcome to participate as actively as you are comfortable. By default\, users’ cameras and microphones will be switched off\, and you may simply watch passively or participate solely by text in the chat box if you are uncomfortable being seen or heard. Please note that while we have selected this platform to be as private as possible while maintaining sufficient ease of use for participants\, no online platform is ever fully secure. While all regular TES rules regarding privacy remain in effect\, and anyone caught violating these rules will be subject to consequences (please see our Online Meeting Terms of Service)\, we advise participants to treat online events as though the event is being recorded by a third party. For more information on protecting your online privacy\, please see our online privacy guide.
URL:https://www.tes.org/event/online-body-modification-through-pumping-with-ctw-mister/
END:VEVENT
END:VCALENDAR