BEGIN:VCALENDAR
VERSION:2.0
PRODID:-//The Eulenspiegel Society - ECPv6.15.20//NONSGML v1.0//EN
CALSCALE:GREGORIAN
METHOD:PUBLISH
X-WR-CALNAME:The Eulenspiegel Society
X-ORIGINAL-URL:https://www.tes.org
X-WR-CALDESC:Events for The Eulenspiegel Society
REFRESH-INTERVAL;VALUE=DURATION:PT1H
X-Robots-Tag:noindex
X-PUBLISHED-TTL:PT1H
BEGIN:VTIMEZONE
TZID:America/New_York
BEGIN:DAYLIGHT
TZOFFSETFROM:-0500
TZOFFSETTO:-0400
TZNAME:EDT
DTSTART:20250309T070000
END:DAYLIGHT
BEGIN:STANDARD
TZOFFSETFROM:-0400
TZOFFSETTO:-0500
TZNAME:EST
DTSTART:20251102T060000
END:STANDARD
BEGIN:DAYLIGHT
TZOFFSETFROM:-0500
TZOFFSETTO:-0400
TZNAME:EDT
DTSTART:20260308T070000
END:DAYLIGHT
BEGIN:STANDARD
TZOFFSETFROM:-0400
TZOFFSETTO:-0500
TZNAME:EST
DTSTART:20261101T060000
END:STANDARD
BEGIN:DAYLIGHT
TZOFFSETFROM:-0500
TZOFFSETTO:-0400
TZNAME:EDT
DTSTART:20270314T070000
END:DAYLIGHT
BEGIN:STANDARD
TZOFFSETFROM:-0400
TZOFFSETTO:-0500
TZNAME:EST
DTSTART:20271107T060000
END:STANDARD
END:VTIMEZONE
BEGIN:VEVENT
DTSTART;TZID=America/New_York:20260505T190000
DTEND;TZID=America/New_York:20260505T220000
DTSTAMP:20260423T182727
CREATED:20260422T220256Z
LAST-MODIFIED:20260423T032709Z
UID:8138-1778007600-1778018400@www.tes.org
SUMMARY:TES In-Person - Summer Fling Energy: Temporary Kink Connections Without Shame
DESCRIPTION:Power exchange is often touted as the pinnacle of BDSM experiences: elusive\, alluring\, and hard to get right. It can seem impossible to get started with D/s. How do you know what style or level of power exchange is right for you? How can you find and vet an appropriate partner? How do you navigate negotiations\, collars\, protocols\, contracts\, and punishments? We’ll cover all those topics and beyond\, giving you a solid foundation on which to build your relationship(s). This class is intended for both those who are brand-new to D/s and those who are already on their power exchange journey. \nClass Objectives: \n\nBe able to define what power exchange\, D/s\, and M/s dynamics are\nGain familiarity with your preferred power exchange style and level\nLearn what to look for in potential partners and what may be red flag behavior\nUnderstand various popular consent models and how they apply to D/s\nLearn how to negotiate a power exchange relationship\nUnderstand the truth about collars and alternative marks of ownership\nDiscover how to identify feelings of submission and Dominance in your body\nCombat stereotypes about what really makes a “good” D/s partner\nFigure out if punishment/reward dynamics will work for you\, and what to do if they don’t\nUnderstand the role that rules and protocol can play in a dynamic\nFind out how to construct a beginner-friendly relationship contract you can build on  \n\nBio: \nSarai311 (she/her) is a BIPOC kink educator\, poet\, and event organizer with a decade of experience across classroom and community learning spaces. She brings eight years of formal teaching and three years of active kink engagement into her work\, blending curriculum design\, emotionally grounded facilitation\, and embodied pedagogy. A doctoral candidate\, her research on identity development and culturally responsive pedagogy directly informs her kink education practice. \nWithin the kink community\, she has served as a Dungeon Monitor\, demo bottom\, and board member for Whippersnappers TNG\, and is the founder and lead organizer of BIPOC at Frolicon. She presents across the Southeast at events including Frolicon\, ConNooga\, and Kink Down South\, and has been published twice in Black Leather in Color Magazine. Sarai311 is also the author of What We Could Never Be and Unholy Attachments\, and is known for creating spaces where kink\, identity\, and intentional self-exploration can safely coexist. \n\nTO REGISTER\nMEMBERS – $5\n\nCreate a Member Portal account using the same email address used when you purchased your membership. (Email membership@tes.org if you have forgotten the one you used when registering for TES.) Be sure to respond to the confirmation email & choose a password. After that\, log back into the Member Portal.\nTo complete your purchase\, click on this link and follow the instructions. Your membership discount will be automatically applied.\n\nNON-MEMBERS – $10 /$15 day of event\n\nClick here to register for this class.\n\nIf cost is a barrier to attendance\, please email customer-care@tes.org \nREGISTRATION CLOSES 30 MINUTES BEFORE THE START OF CLASS! ALL QUESTIONS GO TO CUSTOMER-CARE@TES.ORG! YOU WILL RECEIVE THE LOGIN LINK WITH THE CONFIRMATION EMAIL.\n**Note – if you are seeing an “event ended” screen – try one or more of the following:\n\nRefresh\nClear cache\nTry a different browser**\n\nThe DatingKinky platform is supported by multiple browsers\, but if you are having any technical difficulties\, please try a different browser\, as certain settings may interfere. Note that this link will only be active during scheduled meeting times. \nYou are welcome to participate as actively as you are comfortable. By default\, users’ cameras and microphones will be switched off\, and you may watch passively or participate solely by text in the chat box if you are uncomfortable being seen or heard. Please note that while we have selected this platform to be as private as possible while maintaining sufficient ease of use for participants\, no online platform is ever fully secure. While all regular TES rules regarding privacy remain in effect\, and anyone caught violating these rules will be subject to consequences (please see our Online Meeting Terms of Service)\, we advise participants to treat online events as though they are being recorded by a third party. For more information on protecting your online privacy\, please see our online privacy guide.
URL:https://www.tes.org/event/2026-05-05/
LOCATION:Virtual
CATEGORIES:class,Educational,Online
ATTACH;FMTTYPE=image/png:https://www.tes.org/wp-content/uploads/2026/04/20260505-SummerFlingEnergy_FetLife-scaled.png
END:VEVENT
BEGIN:VEVENT
DTSTART;TZID=America/New_York:20260514T193000
DTEND;TZID=America/New_York:20260514T220000
DTSTAMP:20260423T182728
CREATED:20260423T015924Z
LAST-MODIFIED:20260423T021345Z
UID:8146-1778787000-1778796000@www.tes.org
SUMMARY:TES In-Person - Community Organizing: Building Inclusive and Sustainable Practices
DESCRIPTION:Whether you’re a munch organizer\, an event planner\, someone interested in starting something\, or someone who attends and is curious about what happens behind the scenes–come learn and discuss: what is community organizing and how can we sustainably create and maintain spaces that welcome\, include\, and highlight marginalized voices? \nBio: \nxin (they/them) is an Asian queer\, trans genderqueer\, polyamorous\, neurodivergent\, Dom\, rope top\, and primal sensualist. They are passionate about community building and organizing BIPOC spaces. They have been involved in their local scenes since 2021. \n\nLocation: \nThe Center (The Lesbian\, Gay\, Bisexual & Transgender Community Center)  \n208 West 13th Street\,  \nNew York\, NY 10011 \nCost: \n\nMembers: $10\nNon-Members: $25\n\nRegistration in advance is mandatory. \nNote: Each attendee must have a separate account to register. \nRegistration Instructions\nIf You Already Have an Account \n\nRegister: Click here to go to the class registration page.\nLog in: Use your existing account information to log in and register for the class. Your membership discount will be applied automatically.\nComplete Purchase: Follow the instructions to complete your payment. Your membership discount will be automatically applied.\n\nIf You Need to Create an Account \nFor Members: \n\nCreate Your Account: Go to the Member Portal and create your account here. Be sure to use the same email address you used when you purchased your TES membership. If you’ve forgotten it\, email membership@tes.org for assistance.\nConfirm Your Email: Check your inbox for a confirmation email and follow the link to set your password.\nLog In and Register: Click this link to log back into the Member Portal and register for the class. \nComplete Purchase: Follow the instructions to complete your payment. Your membership discount will be automatically applied.\n\nFor Non-Members: \n\nCreate Your Account: Go to the registration page and create your member portal account here.\nConfirm Your Email: Check your inbox for a confirmation email and follow the link to set enter your password.\nLog In and Register: Click this link to log back into the Member Portal and register for the class. \nComplete Purchase: Follow the instructions to complete your payment.\n\nThere is No On-Site Registration \n\nCash payments are not accepted at the door.
URL:https://www.tes.org/event/2026-05-14/
LOCATION:LGBT Community Center\, 208 W 13th St\, New York\, NY\, 10011\, United States
CATEGORIES:class,Educational,In-Person
ATTACH;FMTTYPE=image/png:https://www.tes.org/wp-content/uploads/2026/04/20260514-Community-Organizing-Fet-Banner-1.png
END:VEVENT
BEGIN:VEVENT
DTSTART;TZID=America/New_York:20260519T190000
DTEND;TZID=America/New_York:20260519T220000
DTSTAMP:20260423T182728
CREATED:20260423T041840Z
LAST-MODIFIED:20260423T041945Z
UID:8163-1779217200-1779228000@www.tes.org
SUMMARY:TES Online – Sweet Talk & Mean Whispers: A Masterclass in Verbal Contrast
DESCRIPTION:They say talk is cheap\, but in the bedroom or the dungeon\, the right words can be priceless. The most powerful tool in your kit isn’t necessarily a toy or a restraint; it’s your mind\, and it’s your voice. Whether you’re looking to deepen emotional intimacy or command a room with a single sentence\, this class is designed to help you find and refine your erotic voice. \nThis workshop explores the “Verbal Contrast\,” the dynamic interplay between sweetness and severity. Strip away the “script” and learn to build a vocabulary that feels natural to you… and electrifying to your partner. \nBonus: These techniques work great in person OR at a distance and can be a great way to maintain your desire when your relationship is virtual or long-distance. \nWe’ll Cover: \n\nThe Verbal Contract: Navigating safety and consent\, including how to negotiate verbal triggers\, hard limits\, and linguistic aftercare.\nOvercoming the “Giggle Factor”: Practical exercises to move past the initial awkwardness or “cringe” of dirty talk and find your authentic flow\nThe Anatomy of “The Three Ts”: How to use tone\, tempo\, and timber to shift the energy in the room before you even touch your partner.\nVerbal Archetypes: Identifying your natural style… whether you are a poetic romantic\, a commanding authority\, or a playful teaser\nThe Power of Contrast: Learning how to jump between “Sweet Talk” (validation\, adoration\, vulnerability) and “Mean Whispers” (commands\, assertive language\, “trash talk”) to create maximum tension.\n\nBio: \nxoxoDIVA is a creative\, unique and insatiable Domme whose deep passion for kink is matched only by her dedication to teaching it. While embodying authority and command\, Diva maintains a friendly and approachable demeanor\, and loves doing “mean things” with a smile on her face. She finds joy in the nuanced interplay of being both kind and mean simultaneously — a dynamic she loves to explore in her classes. \nA dedicated kink educator and seasoned community leader\, Diva is driven to share her knowledge. Drawing on her experience\, including roles as a Black Rose Emeritus Board Member and Studio 58 staff\, she works to empower curious learners to explore their desires and find their authentic selves. Being part of someone’s first steps toward realizing their fantasies is sacred to her\, and she takes that obligation very seriously. \nThis commitment is grounded in open communication and a pledge to creating safe\, yet growth-focused\, spaces where boundaries can be pushed and new depths of intimacy discovered. She is particularly drawn to students who are confident\, committed\, and eager to learn. Diva offers highly technical and methodical\, yet always entertaining\, lessons in a wide variety of scene topics. \nEthics \nAs a professional kink educator\, Diva embraces and upholds the ethical and responsible practices as outlined in the Kink Education Code of Conduct. She has adopted the Kink Education Minimum Standards (KEMS) code of conduct and has nothing to disclose.  \n\nTO REGISTER: \nMEMBERS – $5\n\nCreate a Member Portal account using the same email address used when you purchased your membership. (Email membership@tes.org if you have forgotten the one you used when registering for TES.) Be sure to respond to the confirmation email & choose a password. After that\, log back into the Member Portal.\nTo complete your purchase\, click on this link and follow the instructions. Your membership discount will be automatically applied.\n\nNON-MEMBERS – $10 /$15 day of event\n\nClick here to register for this class.\n\nIf cost is a barrier to attendance\, please email customer-care@tes.org \nREGISTRATION CLOSES 30 MINUTES BEFORE THE START OF CLASS! ALL QUESTIONS GO TO CUSTOMER-CARE@TES.ORG! YOU WILL RECEIVE THE LOGIN LINK WITH THE CONFIRMATION EMAIL.\n**Note – if you are seeing an “event ended” screen – try one or more of the following:\n\nRefresh\nClear cache\nTry a different browser**\n\nThe DatingKinky platform is supported by multiple browsers\, but if you are having any technical difficulties\, please try a different browser\, as certain settings may interfere. Note that this link will only be active during scheduled meeting times. \nYou are welcome to participate as actively as you are comfortable. By default\, users’ cameras and microphones will be switched off\, and you may simply watch passively or participate solely by text in the chat box if you are uncomfortable being seen or heard. Please note that while we have selected this platform to be as private as possible while maintaining sufficient ease of use for participants\, no online platform is ever fully secure. While all regular TES rules regarding privacy remain in effect\, and anyone caught violating these rules will be subject to consequences (please see our Online Meeting Terms of Service)\, we advise participants to treat online events as though the event is being recorded by a third party. For more information on protecting your online privacy\, please see our online privacy guide.
URL:https://www.tes.org/event/2026-05-19/
LOCATION:Virtual
CATEGORIES:class,Educational,Online
ATTACH;FMTTYPE=image/png:https://www.tes.org/wp-content/uploads/2026/04/20260519-Sweet-Talk-Mean-Whispers-FL-2.png
END:VEVENT
BEGIN:VEVENT
DTSTART;TZID=America/New_York:20260528T193000
DTEND;TZID=America/New_York:20260528T220000
DTSTAMP:20260423T182728
CREATED:20260423T030434Z
LAST-MODIFIED:20260423T030556Z
UID:8153-1779996600-1780005600@www.tes.org
SUMMARY:TES In-Person - Sensual Capture
DESCRIPTION:Sensual Capture is a trauma-informed workshop that will give players the framework and tools to safely engage in abduction in play scenes. Players are asked to reflect on what draws them to abduction play\, and how to navigate the many risks and sites of both trauma and desire before engaging in play. Players will leave with the key concepts needed to compose a scene. A condensed demonstration of a basic\, beginner-level abduction scene will be performed\, demonstrating safe\, low-impact methods of physiological and physical control. \nBio: \nLady Dahlia Trieu is a transfemme prodomme and kink educator of Vietnamese heritage. Her career in the sex industry began in queer porn\, performing with AORTA Films\, and later\, Colorblock Films. She has been an organizer for Please Daddy\, a BIPOC and transfemme centered play party\, Commodity Fetish\, an annual kinkshare\, among other LGBT BDSM events. In her past lives\, she has been an educator\, combat soldier\, and poet—all of which have been surprisingly useful in her practice as a dominatrix. She is based in Brooklyn with her two feline familiars. \n\nLocation Given in Confirmation\nCost: $10 Members/ $25 Non-Members\nRegistration in advance is mandatory.\nRegistration Instructions\nIf You Already Have an Account\n\nRegister: Click here to go to the class registration page.\nLog in: Use your existing account information to log in and register for the class. Your membership discount will be applied automatically.\nComplete Purchase: Follow the instructions to complete your payment. Your membership discount will be automatically applied.\n\nIf You Need to Create an Account\nFor Members: \n\nCreate Your Account: Go to the Member Portal and create your account here. Be sure to use the same email address you used when you purchased your TES membership. If you’ve forgotten it\, email membership@tes.org for assistance.\nConfirm Your Email: Check your inbox for a confirmation email and follow the link to set your password.\nLog In and Register: Click this link to log back into the Member Portal and register for the class. \nComplete Purchase: Follow the instructions to complete your payment. Your membership discount will be automatically applied.\n\nFor Non-Members: \n\n\n\nCreate Your Account: Go to the registration page and create your member portal account here.\nConfirm Your Email: Check your inbox for a confirmation email and follow the link to set enter your password.\nLog In and Register: Click this link to log back into the Member Portal and register for the class. \n\n\n\nThere is no on-site registration.\n\nCash payments are not accepted at the door.
URL:https://www.tes.org/event/2026-05-28/
LOCATION:Upon Confirmation\, In Your Confirmation\, New York\, NY\, 10001\, United States
CATEGORIES:class,Educational,In-Person
ATTACH;FMTTYPE=image/png:https://www.tes.org/wp-content/uploads/2026/04/20260528-SensualCapture_FetLife-scaled.png
END:VEVENT
END:VCALENDAR