BEGIN:VCALENDAR
VERSION:2.0
PRODID:-//The Eulenspiegel Society - ECPv6.15.20//NONSGML v1.0//EN
CALSCALE:GREGORIAN
METHOD:PUBLISH
X-WR-CALNAME:The Eulenspiegel Society
X-ORIGINAL-URL:https://www.tes.org
X-WR-CALDESC:Events for The Eulenspiegel Society
REFRESH-INTERVAL;VALUE=DURATION:PT1H
X-Robots-Tag:noindex
X-PUBLISHED-TTL:PT1H
BEGIN:VTIMEZONE
TZID:America/New_York
BEGIN:DAYLIGHT
TZOFFSETFROM:-0500
TZOFFSETTO:-0400
TZNAME:EDT
DTSTART:20160313T070000
END:DAYLIGHT
BEGIN:STANDARD
TZOFFSETFROM:-0400
TZOFFSETTO:-0500
TZNAME:EST
DTSTART:20161106T060000
END:STANDARD
BEGIN:DAYLIGHT
TZOFFSETFROM:-0500
TZOFFSETTO:-0400
TZNAME:EDT
DTSTART:20170312T070000
END:DAYLIGHT
BEGIN:STANDARD
TZOFFSETFROM:-0400
TZOFFSETTO:-0500
TZNAME:EST
DTSTART:20171105T060000
END:STANDARD
BEGIN:DAYLIGHT
TZOFFSETFROM:-0500
TZOFFSETTO:-0400
TZNAME:EDT
DTSTART:20180311T070000
END:DAYLIGHT
BEGIN:STANDARD
TZOFFSETFROM:-0400
TZOFFSETTO:-0500
TZNAME:EST
DTSTART:20181104T060000
END:STANDARD
END:VTIMEZONE
BEGIN:VEVENT
DTSTART;TZID=America/New_York:20170801T193000
DTEND;TZID=America/New_York:20170801T220000
DTSTAMP:20260421T095738
CREATED:20170727T145813Z
LAST-MODIFIED:20170731T142913Z
UID:1913-1501615800-1501624800@www.tes.org
SUMMARY:Rope Handling II - Refining the Details and Skills for Performance\, with Andrapoloutropon
DESCRIPTION:TES Members $5\nStudents & Military with ID $10\nReciprocal Groups $10\nNon-Members $20\nCash Only\nDoors open at 7:00 pm – Meeting begins at 7:30 pm\nPlease note the NEW LOCATION: \nAlchemical Theatre Laboratory\, 2nd Floor\nElevator access is available but must call the office at (212) 675-1390\n\n\nRope handling is one of the most important skills for a rigger as it can directly affect speed\, connection\, tension\, comfort\, beauty\, and precision.  This class picks up where Rope Handling I leaves off\, rather than focusing on large movements and concepts\, this class will focus on improving finger and hand technique to improve tying\, refining the use of some skills learned in Rope Handling I\, and introduce rope handling techniques and ideas for performance\, aesthetics\, and suspension. \nSKILL LEVEL: Intermediate. Students should have taken Rope Handling I or have equivalent knowledge of broader rope handling concepts.  Please bring rope and a partner (or find someone to tie in the class). Beginners are welcome to observe. \n  \n\nBIO:\nAndraPoloutropon is a New York City based rigger with a strong interest in “floorwork transitions.” A self-proclaimed “style whore\,” he is fascinated by the myriad styles of tying and encourages others to make their own way rather than following a single method as dogma. In addition to style\, he holds an abiding interest in rope handling and is dedicated to helping people understand “why” various decisions are made in rope bondage. He has had the privilege of teaching at Shibaricon\, TES Fest\, and Bound in Boston\, and can regularly be found teaching classes on rope theory\, handling\, and style around the greater NY area.
URL:https://www.tes.org/event/rope-handling-ii-refining-the-details-and-skills-for-performance-with-andrapoloutropon/
LOCATION:Alchemical Theatre Laboratory\, 104 West 14th Street\, New York\, 10011\, United States
END:VEVENT
BEGIN:VEVENT
DTSTART;TZID=America/New_York:20170802T193000
DTEND;TZID=America/New_York:20170802T220000
DTSTAMP:20260421T095738
CREATED:20170728T155554Z
LAST-MODIFIED:20170802T230455Z
UID:1927-1501702200-1501711200@www.tes.org
SUMMARY:Fetish Workers & DW/sm Groups: Ballbusting with ComtesseAurora & KilimanjaroDan
DESCRIPTION:TES Members $5\nStudents & Military with ID $10\nReciprocal Groups $10\nNon-Members $20\nCash Only\nDoors open at 7:00 pm – Meeting begins at 7:30 pm\nPlease note the NEW LOCATION: \nAlchemical Theatre Laboratory\, 2nd Floor\nElevator access is available but must call the office at (212) 675-1390\n  \n\n\nOne of the most iconic DW/sm activities is ballbusting. From the classic image of a latex-clad domina pressing her stiletto heel into her submissive’s groin to the sharp sting of a finger-flick against the scrotum by a giggling princess – or prince! – there are myriad directions from which to approach this flavor of genitorture. This class will explore some of the many motivations behind this kink\, several techniques\, and a discussion of safety and health considerations. \nBIOS:\nComtesseAurora is an NYC based professional dominatrix and lifestyle kinkster. She has been kinky since the age of four when she tied herself up with her jump ropes. She specializes in foot worship\, flogging\, and sensation play\, and has been dishing out all manner of kinky delights for more than six years. In another incarnation\, she is a classically trained soprano and unrepentant chocoholic. \nKilimanjaroDan is a ball busting and wrestling aficionado with many years of experience as a bottom. He has training in therapeutic hypnosis and also enjoys bottoming to breath play. He is an avid hiker and mountaineer\, and also identifies as a shameless punster.
URL:https://www.tes.org/event/fetish-workers-dwsm-groups-ballbusting-with-comtesseaurora-kilimanjarodan/
LOCATION:Alchemical Theatre Laboratory\, 104 West 14th Street\, New York\, 10011\, United States
END:VEVENT
BEGIN:VEVENT
DTSTART;TZID=America/New_York:20170806T130000
DTEND;TZID=America/New_York:20170806T170000
DTSTAMP:20260421T095738
CREATED:20170723T200826Z
LAST-MODIFIED:20170727T144956Z
UID:1881-1502024400-1502038800@www.tes.org
SUMMARY:Breath Play Workshop\, with Orpheus Black
DESCRIPTION:  \n  \n  \n  \nCLICK HERE TO PURCHASE TICKETS\nTES MEMBERS\n$25.00 in advance\, must show card on arrival (at door\, $30 cash) \nNON-MEMBERS\n$35.00 in advance (at door\, $40 cash) \nPROFESSIONAL FETISH WORKERS\n$25.00 in advance\, must show business card or ad on arrival (at door\, $30 cash) \nDoors open at 1:00 pm\, Workshop begins at 1:30 pm.\n  \nErotic Asphyxiation or Breath Play is the intentional restriction of oxygen to the brain for the purpose of sexual arousal\, but Breath Play is more than just an erotic exploration; it’s a journey into the very depths of our primal being. \nBreath Play brings about the Bardo (“transitional state of being”) were one can experience intimacy and ultimately orgasm on a different plain of existence. It strips away the inhibitions and frees a person from self-consciousness leaving only the breath and the mindbody. Topics that we will cover are: \nWhat is Breath Play\nIs Auto-erotic Asphyxiation and Breath Play the same?\nWhat are the pop culture perceptions and how do they match up with the real thing? \nA brief history of Breath Play\nWhat did 17th century physicians prescribe Breath Play for \nThe myths and realities about Breath Play\nHow many people die every year as a result of being choked?\nWhat’s the difference between being choked and being strangled?\nWhat are the dangers of Breath Play? \nHow Breath Play works\nWhat is the Psychology behind Breath Play?\nWhat is the physiology behind Breath Play?\nHow does breath play enhance orgasm?  \nLecture topics\nHow couples can safely introduce EA into their intimate erotic lives\nFinding the breath\nDeveloping trust\nThe anatomy of the neck\nThe techniques used to induce altered states\nHow to use breath play to heighten climax.\nWarning signs \nDemonstrations\nIn this portion of the class I demonstrate the proper technique as well as the wrong techniques. Then we demonstrate the various levels on consciousness while introducing sexual stimulus.\nI will walk couples through the proper application of Breath Play. \nYou won’t want to miss this one! \n  \nAbout the Presenter\nOrpheus Black – Southern California’s Leather Master/slave titleholder – is also a published author and erotic educator\, specializing in hierarchical dynamics\, non-monogamous relationships\, and extreme sexual encounters. This two-time Bawdy Story telling champion has been traveling the country teaching his fun and light-hearted educational events for more than a decade. \nDuring this time\, Orpheus has become one of California’s most respected educators as well as a favorite interviewee and contributor\, lending his expertise to shows such as “Chocolate Radio”\, “Night Calls”\, “Love\, Sex\, and Hip Hop”\, “The Sex Nerd Sandra Show”\,”The Dr. Susan Block Show”\, and “The Inner Circle with Neil Strauss”.  Currently\, he hosts his own sexy monthly podcast called “the Tyrant Thinks”. \nOrpheus is also a regular presenter at DomConLA and is the founder of Cirque de Sade—a high profile Dominants group whose mission is to advance the art of BDSM through a commitment to innovation\, excellence\, and active leadership in the D/s\, Ms and fetish communities. \nThe workshop will be held at The Players Theatre\, Studio 3D. Stairs-accessible only.
URL:https://www.tes.org/event/breath-play-workshop-with-orpheus-black/
LOCATION:The Player’s Theatre\, 115 Macdougal Street\, New York\, NY\, 10012\, United States
END:VEVENT
BEGIN:VEVENT
DTSTART;TZID=America/New_York:20170808T193000
DTEND;TZID=America/New_York:20170808T220000
DTSTAMP:20260421T095738
CREATED:20170805T154308Z
LAST-MODIFIED:20170805T154609Z
UID:1948-1502220600-1502229600@www.tes.org
SUMMARY:Decompression and Stress Management Workshop with Lia Leto
DESCRIPTION:TES Members $5\nStudents & Military with ID $10\nReciprocal Groups $10\nNon-Members $20\nCash Only\nDoors open at 7:00 pm – Meeting begins at 7:30 pm\nPlease note the LOCATION: \nThe Players Theatre\, 115 Macdougal St\, New York\, NY 10012\nStairs-accessible only.\n\n\nThis workshop will focus on various introductory techniques for stress management and decompression including basic breathing postures\, mental imagery exercises\, and guided meditation.  \nParticipants should wear comfortable clothing and come prepared to relax.
URL:https://www.tes.org/event/decompression-and-stress-management-workshop-with-lia-leto/
LOCATION:The Player’s Theatre\, 115 Macdougal Street\, New York\, NY\, 10012\, United States
END:VEVENT
BEGIN:VEVENT
DTSTART;TZID=America/New_York:20170809T193000
DTEND;TZID=America/New_York:20170809T220000
DTSTAMP:20260421T095738
CREATED:20170805T154547Z
LAST-MODIFIED:20170808T135304Z
UID:1952-1502307000-1502316000@www.tes.org
SUMMARY:Novice and Newcomers Group: "So top me maybe" : an introduction to the bottom side of the slash" with Jaden
DESCRIPTION:TES Members $5\nStudents & Military with ID $10\nReciprocal Groups $10\nNon-Members $20\nCash Only\nDoors open at 7:00 pm – Meeting begins at 7:30 pm\nPlease note the LOCATION: \nThe Players Theatre\, 115 Macdougal St\, New York\, NY 10012\nStairs-accessible only.\n\n\nJoin Jaden for an evening of tips\, explanations\, and questions answered for those who might be new to the bottom side of the slash.
URL:https://www.tes.org/event/novice-and-newcomers-group-getting-started-as-a-bottommasochist-with-jaden/
LOCATION:The Player’s Theatre\, 115 Macdougal Street\, New York\, NY\, 10012\, United States
END:VEVENT
BEGIN:VEVENT
DTSTART;TZID=America/New_York:20170815T193000
DTEND;TZID=America/New_York:20170815T220000
DTSTAMP:20260421T095738
CREATED:20170805T154949Z
LAST-MODIFIED:20170805T154949Z
UID:1954-1502825400-1502834400@www.tes.org
SUMMARY:Kink-provisation: Applying Improv Theater Principles to Kink Relationships in order to Enhance Communication\, Creativity\, & Collaboration\, with MasterfulTouch
DESCRIPTION:TES Members $5\nStudents & Military with ID $10\nReciprocal Groups $10\nNon-Members $20\nCash Only\nDoors open at 7:00 pm – Meeting begins at 7:30 pm\nPlease note the LOCATION: \nThe Players Theatre\, 115 Macdougal St\, New York\, NY 10012\nStairs-accessible only.\n  \n\n\nSuccessful kink relationships require a lot of work. You need skills in communication\, creativity\, authenticity\, expanding one’s comfort zone\, judgment suspension\, open-mindedness\, vulnerability\, and curiosity. In this entertaining\, informative and immediately applicable program we’ll go behind the curtain and into the mind of improvisers and leave with ways to be more confident individuals\, better relationship partners and with new ways to explore our possibilities. The entire program is informal\, interactive and involving. Participation is completely voluntary. No one will be singled out to volunteer. \n  \nImprovisation theater games are deceptively powerful tools that help maintain mental and emotional equilibrium. The games invite participants to safely enter and embrace the unknown and relate to others without assumption or judgment.  Sound familiar???  The mindset helps us to expand our comfort zone\, relate to others in a cooperative way\, confidently accept reality\, learn to act on things we can control and let go of things we cannot control\, and enjoy and value working with others. \n  \nParticipants will be able to: \nDescribe their own behavior around their perceived limitations. \nApply a tactic to disagree without becoming argumentative. \nEmploy a practice to become more comfortable with change\, more open to new ideas and less risk averse.
URL:https://www.tes.org/event/kink-provisation-applying-improv-theater-principles-to-kink-relationships-in-order-to-enhance-communication-creativity-collaboration-with-masterfultouch-2/
LOCATION:The Player’s Theatre\, 115 Macdougal Street\, New York\, NY\, 10012\, United States
END:VEVENT
BEGIN:VEVENT
DTSTART;TZID=America/New_York:20170816T193000
DTEND;TZID=America/New_York:20170816T220000
DTSTAMP:20260421T095738
CREATED:20170805T155920Z
LAST-MODIFIED:20170805T155920Z
UID:1956-1502911800-1502920800@www.tes.org
SUMMARY:DM/sw Group: Caning for Pain\, Fun\, or Punishment\, with Ramon
DESCRIPTION:TES Members $5\nStudents & Military with ID $10\nReciprocal Groups $10\nNon-Members $20\nCash Only\nDoors open at 7:00 pm – Meeting begins at 7:30 pm\nPlease note the LOCATION: \nThe Players Theatre\, 115 Macdougal St\, New York\, NY 10012\nStairs-accessible only.\n  \n\n\nJoin Ramon for a celebration of the rich history of caning as a form of corporal punishment throughout the world. Learn about the materials\, vendors\, and resources for this simple\, yet oh so versatile and fun method of inducing pain. You’ll also learn various methods for precision striking of various parts of your partner’s body. This class will be part lecture\, part demo\, possibly some hands-on.
URL:https://www.tes.org/event/dmsw-group-caning-for-pain-fun-or-punishment-with-ramon/
LOCATION:The Player’s Theatre\, 115 Macdougal Street\, New York\, NY\, 10012\, United States
END:VEVENT
BEGIN:VEVENT
DTSTART;TZID=America/New_York:20170817T190000
DTEND;TZID=America/New_York:20170817T220000
DTSTAMP:20260421T095738
CREATED:20170727T150142Z
LAST-MODIFIED:20170805T160102Z
UID:1917-1502996400-1503007200@www.tes.org
SUMMARY:TES Board of Directors Meeting
DESCRIPTION:TES MEMBERS ONLY. \nFree. Must show valid membership card.\nDoors open and meeting begins at 7:00 pm.\n  \nPlease note the LOCATION: \nThe Players Theatre\, 115 Macdougal St\, New York\, NY 10012\nStairs-accessible only.
URL:https://www.tes.org/event/tes-board-of-directors-meeting-10/
LOCATION:The Player’s Theatre\, 115 Macdougal Street\, New York\, NY\, 10012\, United States
END:VEVENT
BEGIN:VEVENT
DTSTART;TZID=America/New_York:20170819T203000
DTEND;TZID=America/New_York:20170819T223000
DTSTAMP:20260421T095738
CREATED:20170727T151239Z
LAST-MODIFIED:20170808T231855Z
UID:1920-1503174600-1503181800@www.tes.org
SUMMARY:Novice & Newcomers Munch: The “It’s Bigger on the Inside” Edition
DESCRIPTION:Are you new to the scene? New to the NYC area? Looking to get back into the scene after a long layoff? Just want to hang out with some fun and kinky people on a Saturday night\, in a safe\, no pressure atmosphere with knowledgeable people to guide you if needed? Come alone or with partner(s). No dress code for the munch. No admission fee to the munch\, just pay for your food and drink\, before proceeding upstairs to the dining area at 8:30 pm. \nWe will be on the second floor of the Bread and Butter Café\, located at 419 Park Ave S\, New York\, NY 10016\, on the corner at 29th Street. \nWe will NOT be going to a party this month\, but staying at the diner for extended fun and merriment! \nQuestions? Write us at novice@tes.org.
URL:https://www.tes.org/event/novice-newcomers-munch-the-its-bigger-on-the-inside-edition/
END:VEVENT
BEGIN:VEVENT
DTSTART;TZID=America/New_York:20170822T193000
DTEND;TZID=America/New_York:20170822T220000
DTSTAMP:20260421T095738
CREATED:20170805T160701Z
LAST-MODIFIED:20170805T161257Z
UID:1958-1503430200-1503439200@www.tes.org
SUMMARY:Chest Harnesses for Suspension that Aren't TKs\, with Belle-
DESCRIPTION:TES Members $5\nStudents & Military with ID $10\nReciprocal Groups $10\nNon-Members $20\nCash Only\nDoors open at 7:00 pm – Meeting begins at 7:30 pm\nPlease note the LOCATION:\nAlchemical Theatre Laboratory\, 3rd Floor\, Studio C\nElevator access is available but must call the office at (212) 675-1390\n  \nPeople choose not to use TKs for a variety of reasons while tying but unfortunately many of the harnesses out there that aren’t TKs don’t function in the same way. In this class\, we are going to look at the functional parts of a TK and recombine them into a variety of different chest harnesses stable enough to be suspended but without the same risks or problems associated with TKs.
URL:https://www.tes.org/event/chest-harnesses-for-suspension-that-arent-tks-with-belle/
LOCATION:Alchemical Theatre Laboratory\, 104 West 14th Street\, New York\, 10011\, United States
END:VEVENT
BEGIN:VEVENT
DTSTART;TZID=America/New_York:20170823T193000
DTEND;TZID=America/New_York:20170823T220000
DTSTAMP:20260421T095738
CREATED:20170805T161022Z
LAST-MODIFIED:20170805T161022Z
UID:1963-1503516600-1503525600@www.tes.org
SUMMARY:Harnesses for Dynamic Suspension Peer Learning\, with Belle-
DESCRIPTION:TES Members $5\nStudents & Military with ID $10\nReciprocal Groups $10\nNon-Members $20\nCash Only\nDoors open at 7:00 pm – Meeting begins at 7:30 pm\nPlease note the LOCATION:\nAlchemical Theatre Laboratory\, 3rd Floor\, Studio B\nElevator access is available but must call the office at (212) 675-1390\n  \n\n\nReady for dynamic suspensions? Not sure how to be sure that your harnesses can hold up to the changing forces? This class is designed to help you learn what (if any) modifications you can make to your harness to increase stability and decrease problems during dynamic suspension. This class will be taught in masterclass style\, so bring what you’re working on and be prepared to show it to the class so that everyone can learn from what you’re working on.
URL:https://www.tes.org/event/harnesses-for-dynamic-suspension-peer-learning-with-belle/
LOCATION:Alchemical Theatre Laboratory\, 104 West 14th Street\, New York\, 10011\, United States
END:VEVENT
BEGIN:VEVENT
DTSTART;TZID=America/New_York:20170826T200000
DTEND;TZID=America/New_York:20170827T020000
DTSTAMP:20260421T095738
CREATED:20170808T140908Z
LAST-MODIFIED:20170808T140908Z
UID:2042-1503777600-1503799200@www.tes.org
SUMMARY:TES Volunteer Appreciation Party
DESCRIPTION:TES Fest is behind us\, regular programming has started back up\, and as always\, we couldn’t do any of it without our incredible volunteers! So we want to say thank you in the best way we know how\, an exclusive night of kinky fun just for our volunteers and their guests! \nJoin us Saturday\, August 26th\n8:00 pm – 2:00 am\nat Our Exclusive Location\nBY INVITATION ONLY.\nFREE for TES & TES Fest Volunteers\n$15 in Advance / $20 at the Door\, for Guests of Volunteers \nTHIS IS AN EXCLUSIVE PARTY.\nIn order to attend this party you must be:\n– a regular TES volunteer\n– a TES Fest 2017 volunteer\n– a guest of the above \nOnly invited volunteers and their pre-registered guests will be on the guest list. To be admitted\, you must be on the guest list or entering with an invited volunteer. \nInvitations will go out shortly. If you are a volunteer and do not receive your invitation\, please email zero@tes.org with the details of your volunteerism. \nNot yet a volunteer? Not to worry\, you can always get yourself on the guest list for the next volunteer appreciation party by volunteering today! Click Here for more information about becoming a TES Volunteer! \nVolunteering is open exclusively to TES members. If you are not yet a member\, please consider becoming one today! Click Here \nLooking for a playdate? Please check out our official playdate thread on FetLife\, or come to the party and make a wish on our wishboard. Simply write down what you’re looking for on the board and take the corresponding number and stick it somewhere everyone can see. And if you’re interest in something written on the board\, simply look for the person wearing that number. And there’s nothing like tossing a little money in the ol’ wishing well to help your wish come true\, so please consider donating what you can. All proceeds go to benefit NCSF!
URL:https://www.tes.org/event/tes-volunteer-appreciation-party/
END:VEVENT
BEGIN:VEVENT
DTSTART;TZID=America/New_York:20170829T193000
DTEND;TZID=America/New_York:20170829T220000
DTSTAMP:20260421T095738
CREATED:20170808T135733Z
LAST-MODIFIED:20170829T195540Z
UID:2039-1504035000-1504044000@www.tes.org
SUMMARY:TES-TNG Quickies
DESCRIPTION:TES Members $5\nStudents & Military with ID $10\nReciprocal Groups $10\nNon-Members $20\nCash Only\nDoors open at 7:00 pm – Meeting begins at 7:30 pm\nPlease note the LOCATION:\nAlchemical Theatre Laboratory\, 2nd Floor\, Lab\nElevator access is available but must call the office at (212) 675-1390\nCome join us for TES-TNG Quickies\, a night of short presentations on a wide array of topics by kinksters in the TNG age demographic. Topics range from a discussion of DIY kink toys\, to how to handle mistakes\, to the history of the dress! This class is open to everyone but specifically features presenters between the ages of 18 and 35 – a reminder that knowledge can be found and shared at any age! \nAre you between the ages of 18 and 35\, kinky\, and have something you’d like to share with your fellow kinksters? Whether you’re a seasoned presenter workshopping a new topic\, have something short and sweet to share\, or looking to dip your toe into the world of kink presenting for the first time\, this will be a great opportunity to share with the TNG community! \nEight presentation spots are available and filling up fast! If you are interested in presenting\, please contact Zero (zero@tes.org\, or on FetLife @AuralFixation87) with your name\, age\, and the topic you’d like to present on. Please keep all presentations to no more than 10 minutes\, with 5 minutes available for follow up questions from the audience.
URL:https://www.tes.org/event/tes-tng-quickies-2/
LOCATION:Alchemical Theatre Laboratory\, 104 West 14th Street\, New York\, 10011\, United States
END:VEVENT
BEGIN:VEVENT
DTSTART;TZID=America/New_York:20170830T193000
DTEND;TZID=America/New_York:20170830T220000
DTSTAMP:20260421T095738
CREATED:20170805T161611Z
LAST-MODIFIED:20170805T161611Z
UID:1965-1504121400-1504130400@www.tes.org
SUMMARY:Hypnokink Group :  Fractionation and Phenomena: A Beginner’s Guide to Making it Look Easy with D-Artagnan
DESCRIPTION:TES Members $5\nStudents & Military with ID $10\nReciprocal Groups $10\nNon-Members $20\nCash Only\nDoors open at 7:00 pm – Meeting begins at 7:30 pm\nPlease note the LOCATION:\nThe Players Theatre\, 115 Macdougal St\, New York\, NY 10012\nStairs-accessible only.\n  \nThis is a beginner to intermediate friendly class! \nWe’ve all been to a good advanced class and seen a presenter do something outlandish and beautiful: 100 trances in a minute\, a live vivisection (shameless plug)\, someone fanning themselves like it’s 90 degrees in a 62 degree room\, etc. A lot of these practices\, while impressive and unique in the hands of a skilled players are all rooted in simple hypnotic techniques.Touching on what subject and hypnotist alike need to build these skills in this lecture style class; we’ll be breaking apart impressive scenes and giving attendees a good foundation to build their most unique and personal fantasies off of.
URL:https://www.tes.org/event/hypnokink-group-fractionation-and-phenomena-a-beginners-guide-to-making-it-look-easy-with-d-artagnan/
LOCATION:The Player’s Theatre\, 115 Macdougal Street\, New York\, NY\, 10012\, United States
END:VEVENT
END:VCALENDAR