BEGIN:VCALENDAR
VERSION:2.0
PRODID:-//The Eulenspiegel Society - ECPv6.15.20//NONSGML v1.0//EN
CALSCALE:GREGORIAN
METHOD:PUBLISH
X-WR-CALNAME:The Eulenspiegel Society
X-ORIGINAL-URL:https://www.tes.org
X-WR-CALDESC:Events for The Eulenspiegel Society
REFRESH-INTERVAL;VALUE=DURATION:PT1H
X-Robots-Tag:noindex
X-PUBLISHED-TTL:PT1H
BEGIN:VTIMEZONE
TZID:America/New_York
BEGIN:DAYLIGHT
TZOFFSETFROM:-0500
TZOFFSETTO:-0400
TZNAME:EDT
DTSTART:20250309T070000
END:DAYLIGHT
BEGIN:STANDARD
TZOFFSETFROM:-0400
TZOFFSETTO:-0500
TZNAME:EST
DTSTART:20251102T060000
END:STANDARD
BEGIN:DAYLIGHT
TZOFFSETFROM:-0500
TZOFFSETTO:-0400
TZNAME:EDT
DTSTART:20260308T070000
END:DAYLIGHT
BEGIN:STANDARD
TZOFFSETFROM:-0400
TZOFFSETTO:-0500
TZNAME:EST
DTSTART:20261101T060000
END:STANDARD
BEGIN:DAYLIGHT
TZOFFSETFROM:-0500
TZOFFSETTO:-0400
TZNAME:EDT
DTSTART:20270314T070000
END:DAYLIGHT
BEGIN:STANDARD
TZOFFSETFROM:-0400
TZOFFSETTO:-0500
TZNAME:EST
DTSTART:20271107T060000
END:STANDARD
END:VTIMEZONE
BEGIN:VEVENT
DTSTART;TZID=America/New_York:20260423T193000
DTEND;TZID=America/New_York:20260423T220000
DTSTAMP:20260421T184550
CREATED:20260306T180417Z
LAST-MODIFIED:20260306T180417Z
UID:8078-1776972600-1776981600@www.tes.org
SUMMARY:TES IN PERSON – Erotic Hypnosis 101
DESCRIPTION:Erotic hypnosis is often described as “the chocolate sauce of kink” — delicious on its own\, and great in combination with just about anything else. You can use it to tighten up your bondage\, sharpen your knife play\, add a little punch to your impact scenes\, or just all on its own for good old-fashioned pleasure and power play. Join us for Erotic Hypnosis 101\, an introduction to what hypnosis is (and isn’t)\, how it does (and doesn’t) work\, and how to continue exploring on your own. \nBio:\nSex-Obsessed Lesbian is a kinkster\, kink educator\, and content creator based in the Eastern US; she has been doing hypnosis since just after college\, nerding out about sex since high school\, and making bad puns since approximately forever. Hypnosis turned her on before she even knew what it meant to get turned on\, and the wonderful world of Tumblr taught her that it was an actual thing. Since then\, she’s been romping around the countryside thinking and talking about consent\, creativity\, and ways to do silly and sexy things with people’s brains. \nFind her online: https://linktr.ee/sexobsessedlesbian \n\nLocation:\nThe Center (The Lesbian\, Gay\, Bisexual & Transgender Community Center)\n208 West 13th Street\,\nNew York\, NY 10011 \nCost:\nMembers: $10\nNon-Members: $25\nRegistration in advance is strongly encouraged due to limited internet access at the venue.\nNote: Each attendee will need to have a separate account to register. \nRegistration Instructions \nIf You Already Have an Account \n\nRegister: Click here to go to the class registration page.\nLog in: Use your existing account information to log in and register for the class. Your membership discount will be applied automatically.\nComplete Purchase: Follow the instructions to complete your payment. Your membership discount will be automatically applied.\n\nIf You Need to Create an Account \nFor Members: \n\nCreate Your Account: Go to the Member Portal and create your account here. Be sure to use the same email address you used when you purchased your TES membership. If you’ve forgotten it\, email membership@tes.org for assistance.\nConfirm Your Email: Check your inbox for a confirmation email and follow the link to set your password.\nLog In and Register: Click this link to log back into the Member Portal and register for the class.\nComplete Purchase: Follow the instructions to complete your payment. Your membership discount will be automatically applied.\n\nFor Non-Members: \n\nCreate Your Account: Go to the registration page and create your member portal account here.\nConfirm Your Email: Check your inbox for a confirmation email and follow the link to set enter your password.\nLog In and Register: Click this link to log back into the Member Portal and register for the class.\nComplete Purchase: Follow the instructions to complete your payment.\n\nOn-Site Registration \n\nOn-site registration is available\, but please be aware that internet access may be limited.\nYou will be able to register by scanning a QR code with your smartphone.\nThe registration process is the same as the advanced registration steps listed above. Cash payments are not accepted at the door.
URL:https://www.tes.org/event/2026-04-23/
LOCATION:LGBT Community Center\, 208 W 13th St\, New York\, NY\, 10011\, United States
CATEGORIES:class,In-Person
ATTACH;FMTTYPE=image/webp:https://www.tes.org/wp-content/uploads/2026/03/Erotic-Hypnosis-101-Fet-Banner-1.webp
END:VEVENT
END:VCALENDAR